BEGIN:VCALENDAR
VERSION:2.0
PRODID:-//Prahladrai Dalmia Lions College - ECPv6.2.8.2//NONSGML v1.0//EN
CALSCALE:GREGORIAN
METHOD:PUBLISH
X-ORIGINAL-URL:https://dalmialionscollege.ac.in
X-WR-CALDESC:Events for Prahladrai Dalmia Lions College
REFRESH-INTERVAL;VALUE=DURATION:PT1H
X-Robots-Tag:noindex
X-PUBLISHED-TTL:PT1H
BEGIN:VTIMEZONE
TZID:UTC
BEGIN:STANDARD
TZOFFSETFROM:+0000
TZOFFSETTO:+0000
TZNAME:UTC
DTSTART:20210101T000000
END:STANDARD
END:VTIMEZONE
BEGIN:VEVENT
DTSTART;VALUE=DATE:20210206
DTEND;VALUE=DATE:20210207
DTSTAMP:20260421T101855
CREATED:20210201T094250Z
LAST-MODIFIED:20210201T094250Z
UID:8353-1612569600-1612655999@dalmialionscollege.ac.in
SUMMARY:Notice for LIVE MASK MAKING COMPETITION
DESCRIPTION:Notice for LIVE MASK MAKING COMPETITION: Click here to view
URL:https://dalmialionscollege.ac.in/event/notice-for-live-mask-making-competition/
CATEGORIES:Events
END:VEVENT
BEGIN:VEVENT
DTSTART;VALUE=DATE:20210213
DTEND;VALUE=DATE:20210214
DTSTAMP:20260421T101855
CREATED:20210209T045437Z
LAST-MODIFIED:20210209T045437Z
UID:8399-1613174400-1613260799@dalmialionscollege.ac.in
SUMMARY:Notice for TALENT COMPETITION
DESCRIPTION:Notice for TALENT COMPETITION : Click here to view
URL:https://dalmialionscollege.ac.in/event/notice-for-talent-competition/
CATEGORIES:Events
END:VEVENT
BEGIN:VEVENT
DTSTART;VALUE=DATE:20210215
DTEND;VALUE=DATE:20210216
DTSTAMP:20260421T101855
CREATED:20210209T060438Z
LAST-MODIFIED:20210209T060438Z
UID:8407-1613347200-1613433599@dalmialionscollege.ac.in
SUMMARY:Notice for SELF-COMPOSED POETRY RECITATION COMPETITION - in ENGLISH/ HINDI/ MARATHI Languages.
DESCRIPTION:Notice for SELF-COMPOSED POETRY RECITATION COMPETITION – in ENGLISH/ HINDI/ MARATHI Languages. : Click here to view
URL:https://dalmialionscollege.ac.in/event/notice-for-self-composed-poetry-recitation-competition-in-english-hindi-marathi-languages/
CATEGORIES:Events
END:VEVENT
BEGIN:VEVENT
DTSTART;VALUE=DATE:20210217
DTEND;VALUE=DATE:20210218
DTSTAMP:20260421T101855
CREATED:20210211T101632Z
LAST-MODIFIED:20210211T101632Z
UID:8448-1613520000-1613606399@dalmialionscollege.ac.in
SUMMARY:Battle of Brains quiz competition.
DESCRIPTION:Battle of Brains quiz competition.: Click here to view
URL:https://dalmialionscollege.ac.in/event/battle-of-brains-quiz-competition/
CATEGORIES:Events
END:VEVENT
BEGIN:VEVENT
DTSTART;VALUE=DATE:20210222
DTEND;VALUE=DATE:20210223
DTSTAMP:20260421T101855
CREATED:20210215T121952Z
LAST-MODIFIED:20210215T121952Z
UID:8512-1613952000-1614038399@dalmialionscollege.ac.in
SUMMARY:Webinar - Admits to Global Scholarships
DESCRIPTION:Webinar – Admits to Global Scholarships: Click here to view
URL:https://dalmialionscollege.ac.in/event/webinar-admits-to-global-scholarships/
CATEGORIES:Events
END:VEVENT
BEGIN:VEVENT
DTSTART;VALUE=DATE:20210223
DTEND;VALUE=DATE:20210224
DTSTAMP:20260421T101855
CREATED:20210223T045827Z
LAST-MODIFIED:20210223T045827Z
UID:8538-1614038400-1614124799@dalmialionscollege.ac.in
SUMMARY:Notice for DEVELOP A STORY COMPETITION - in ENGLISH/ HINDI/ MARATHI Languages
DESCRIPTION:Notice for DEVELOP A STORY COMPETITION – in ENGLISH/ HINDI/ MARATHI Languages: Click here to view
URL:https://dalmialionscollege.ac.in/event/notice-for-develop-a-story-competition-in-english-hindi-marathi-languages/
CATEGORIES:Events
END:VEVENT
BEGIN:VEVENT
DTSTART;TZID=UTC:20210224T170000
DTEND;TZID=UTC:20210224T170000
DTSTAMP:20260421T101855
CREATED:20210223T051022Z
LAST-MODIFIED:20210223T051022Z
UID:8546-1614186000-1614186000@dalmialionscollege.ac.in
SUMMARY:Grooming Etiquettes
DESCRIPTION:
URL:https://dalmialionscollege.ac.in/event/grooming-etiquettes/
CATEGORIES:Events
END:VEVENT
BEGIN:VEVENT
DTSTART;TZID=UTC:20210226T160000
DTEND;TZID=UTC:20210226T180000
DTSTAMP:20260421T101855
CREATED:20210223T081803Z
LAST-MODIFIED:20210223T081803Z
UID:8570-1614355200-1614362400@dalmialionscollege.ac.in
SUMMARY:Hands on session on Getting Started with LinkedIn organized by Dlita
DESCRIPTION:Hands on session on Getting Started with LinkedIn organized by Dlita: Click here to view
URL:https://dalmialionscollege.ac.in/event/hands-on-session-on-getting-started-with-linkedin-organized-by-dlita/
CATEGORIES:Events
END:VEVENT
BEGIN:VEVENT
DTSTART;TZID=UTC:20210227T120000
DTEND;TZID=UTC:20210227T130000
DTSTAMP:20260421T101855
CREATED:20210227T062759Z
LAST-MODIFIED:20210227T062759Z
UID:8624-1614427200-1614430800@dalmialionscollege.ac.in
SUMMARY:Marathi Bhasha diwas
DESCRIPTION:Marathi Bhasha diwas: Click here to view
URL:https://dalmialionscollege.ac.in/event/marathi-bhasha-diwas/
CATEGORIES:Events
END:VEVENT
BEGIN:VEVENT
DTSTART;TZID=UTC:20210227T170000
DTEND;TZID=UTC:20210227T170000
DTSTAMP:20260421T101855
CREATED:20210223T051155Z
LAST-MODIFIED:20210223T051155Z
UID:8548-1614445200-1614445200@dalmialionscollege.ac.in
SUMMARY:Roadmap to Job search and its Process & Email and Phone Etiquettes
DESCRIPTION:
URL:https://dalmialionscollege.ac.in/event/roadmap-to-job-search-and-its-process-email-and-phone-etiquettes/
CATEGORIES:Events
END:VEVENT
BEGIN:VEVENT
DTSTART;TZID=UTC:20210228T110000
DTEND;TZID=UTC:20210228T110000
DTSTAMP:20260421T101855
CREATED:20210223T051520Z
LAST-MODIFIED:20210223T051520Z
UID:8550-1614510000-1614510000@dalmialionscollege.ac.in
SUMMARY:How to crack Aptitude test + Group Discussion + Personal Interview
DESCRIPTION:
URL:https://dalmialionscollege.ac.in/event/how-to-crack-aptitude-test-group-discussion-personal-interview/
CATEGORIES:Events
END:VEVENT
END:VCALENDAR