BEGIN:VCALENDAR
VERSION:2.0
PRODID:-//Prahladrai Dalmia Lions College - ECPv6.2.8.2//NONSGML v1.0//EN
CALSCALE:GREGORIAN
METHOD:PUBLISH
X-WR-CALNAME:Prahladrai Dalmia Lions College
X-ORIGINAL-URL:https://dalmialionscollege.ac.in
X-WR-CALDESC:Events for Prahladrai Dalmia Lions College
REFRESH-INTERVAL;VALUE=DURATION:PT1H
X-Robots-Tag:noindex
X-PUBLISHED-TTL:PT1H
BEGIN:VTIMEZONE
TZID:UTC
BEGIN:STANDARD
TZOFFSETFROM:+0000
TZOFFSETTO:+0000
TZNAME:UTC
DTSTART:20220101T000000
END:STANDARD
END:VTIMEZONE
BEGIN:VEVENT
DTSTART;VALUE=DATE:20220921
DTEND;VALUE=DATE:20220922
DTSTAMP:20260420T075307
CREATED:20220921T103621Z
LAST-MODIFIED:20220921T103835Z
UID:15769-1663718400-1663804799@dalmialionscollege.ac.in
SUMMARY:24th september & 30th september
DESCRIPTION:24th september: Click here to view\n30th september: Click here to view
URL:https://dalmialionscollege.ac.in/event/24th-september-30th-september/
CATEGORIES:Events
END:VEVENT
END:VCALENDAR