BEGIN:VCALENDAR
VERSION:2.0
PRODID:-//Prahladrai Dalmia Lions College - ECPv6.2.8.2//NONSGML v1.0//EN
CALSCALE:GREGORIAN
METHOD:PUBLISH
X-WR-CALNAME:Prahladrai Dalmia Lions College
X-ORIGINAL-URL:https://dalmialionscollege.ac.in
X-WR-CALDESC:Events for Prahladrai Dalmia Lions College
REFRESH-INTERVAL;VALUE=DURATION:PT1H
X-Robots-Tag:noindex
X-PUBLISHED-TTL:PT1H
BEGIN:VTIMEZONE
TZID:UTC
BEGIN:STANDARD
TZOFFSETFROM:+0000
TZOFFSETTO:+0000
TZNAME:UTC
DTSTART:20220101T000000
END:STANDARD
END:VTIMEZONE
BEGIN:VEVENT
DTSTART;VALUE=DATE:20220320
DTEND;VALUE=DATE:20220327
DTSTAMP:20260420T013736
CREATED:20220321T062356Z
LAST-MODIFIED:20220321T062401Z
UID:13326-1647734400-1648339199@dalmialionscollege.ac.in
SUMMARY:HAPPINESS WEEK CHALLENGE #HAPPINESS
DESCRIPTION:HAPPINESS WEEK CHALLENGE #HAPPINESS: Click here to view
URL:https://dalmialionscollege.ac.in/event/happiness-week-challenge-happiness/
CATEGORIES:Events
END:VEVENT
BEGIN:VEVENT
DTSTART;VALUE=DATE:20220324
DTEND;VALUE=DATE:20220325
DTSTAMP:20260420T013736
CREATED:20220324T053902Z
LAST-MODIFIED:20220324T053902Z
UID:13465-1648080000-1648166399@dalmialionscollege.ac.in
SUMMARY:NOTICE-FYBMS-SEM-II-PCT-SYLLABI-MARCH-2022
DESCRIPTION:NOTICE-FYBMS-SEM-II-PCT-SYLLABI-MARCH-2022: Click here to view
URL:https://dalmialionscollege.ac.in/event/notice-fybms-sem-ii-pct-syllabi-march-2022/
CATEGORIES:Events
END:VEVENT
BEGIN:VEVENT
DTSTART;TZID=UTC:20220324T100000
DTEND;TZID=UTC:20220324T170000
DTSTAMP:20260420T013736
CREATED:20220322T054501Z
LAST-MODIFIED:20220322T054501Z
UID:13371-1648116000-1648141200@dalmialionscollege.ac.in
SUMMARY:Career Guidance Notice - Career in Management
DESCRIPTION:Career Guidance Notice – Career in Management: Click here to view
URL:https://dalmialionscollege.ac.in/event/career-guidance-notice-career-in-management/
CATEGORIES:Events
END:VEVENT
END:VCALENDAR