BEGIN:VCALENDAR
VERSION:2.0
PRODID:-//Prahladrai Dalmia Lions College - ECPv6.2.8.2//NONSGML v1.0//EN
CALSCALE:GREGORIAN
METHOD:PUBLISH
X-WR-CALNAME:Prahladrai Dalmia Lions College
X-ORIGINAL-URL:https://dalmialionscollege.ac.in
X-WR-CALDESC:Events for Prahladrai Dalmia Lions College
REFRESH-INTERVAL;VALUE=DURATION:PT1H
X-Robots-Tag:noindex
X-PUBLISHED-TTL:PT1H
BEGIN:VTIMEZONE
TZID:UTC
BEGIN:STANDARD
TZOFFSETFROM:+0000
TZOFFSETTO:+0000
TZNAME:UTC
DTSTART:20210101T000000
END:STANDARD
END:VTIMEZONE
BEGIN:VEVENT
DTSTART;VALUE=DATE:20211028
DTEND;VALUE=DATE:20211029
DTSTAMP:20260421T090511
CREATED:20211028T070830Z
LAST-MODIFIED:20211028T070830Z
UID:11107-1635379200-1635465599@dalmialionscollege.ac.in
SUMMARY:FYBMS SEMESTER I PCT SYLLABI NOVEMBER-2021-2022
DESCRIPTION:FYBMS SEMESTER I PCT SYLLABI NOVEMBER-2021-2022: Click here to view
URL:https://dalmialionscollege.ac.in/event/fybms-semester-i-pct-syllabi-november-2021-2022/
CATEGORIES:Events
END:VEVENT
END:VCALENDAR