BEGIN:VCALENDAR
VERSION:2.0
PRODID:-//Prahladrai Dalmia Lions College - ECPv6.2.8.2//NONSGML v1.0//EN
CALSCALE:GREGORIAN
METHOD:PUBLISH
X-WR-CALNAME:Prahladrai Dalmia Lions College
X-ORIGINAL-URL:https://dalmialionscollege.ac.in
X-WR-CALDESC:Events for Prahladrai Dalmia Lions College
REFRESH-INTERVAL;VALUE=DURATION:PT1H
X-Robots-Tag:noindex
X-PUBLISHED-TTL:PT1H
BEGIN:VTIMEZONE
TZID:UTC
BEGIN:STANDARD
TZOFFSETFROM:+0000
TZOFFSETTO:+0000
TZNAME:UTC
DTSTART:20210101T000000
END:STANDARD
END:VTIMEZONE
BEGIN:VEVENT
DTSTART;VALUE=DATE:20210821
DTEND;VALUE=DATE:20210822
DTSTAMP:20260420T154709
CREATED:20210820T091729Z
LAST-MODIFIED:20210820T091729Z
UID:10220-1629504000-1629590399@dalmialionscollege.ac.in
SUMMARY:Dlita (B.Sc.I.T.) - Webinar on Careers in IT Sector
DESCRIPTION:Dlita (B.Sc.I.T.) – Webinar on Careers in IT Sector: Click here to view
URL:https://dalmialionscollege.ac.in/event/dlita-b-sc-i-t-webinar-on-careers-in-it-sector/
CATEGORIES:Events
END:VEVENT
END:VCALENDAR