BEGIN:VCALENDAR
VERSION:2.0
PRODID:-//Prahladrai Dalmia Lions College - ECPv6.2.8.2//NONSGML v1.0//EN
CALSCALE:GREGORIAN
METHOD:PUBLISH
X-ORIGINAL-URL:https://dalmialionscollege.ac.in
X-WR-CALDESC:Events for Prahladrai Dalmia Lions College
REFRESH-INTERVAL;VALUE=DURATION:PT1H
X-Robots-Tag:noindex
X-PUBLISHED-TTL:PT1H
BEGIN:VTIMEZONE
TZID:UTC
BEGIN:STANDARD
TZOFFSETFROM:+0000
TZOFFSETTO:+0000
TZNAME:UTC
DTSTART:20210101T000000
END:STANDARD
END:VTIMEZONE
BEGIN:VEVENT
DTSTART;TZID=UTC:20210228T110000
DTEND;TZID=UTC:20210228T110000
DTSTAMP:20260421T031942
CREATED:20210223T051520Z
LAST-MODIFIED:20210223T051520Z
UID:8550-1614510000-1614510000@dalmialionscollege.ac.in
SUMMARY:How to crack Aptitude test + Group Discussion + Personal Interview
DESCRIPTION:
URL:https://dalmialionscollege.ac.in/event/how-to-crack-aptitude-test-group-discussion-personal-interview/
CATEGORIES:Events
END:VEVENT
END:VCALENDAR