BEGIN:VCALENDAR
VERSION:2.0
PRODID:-//Prahladrai Dalmia Lions College - ECPv6.2.8.2//NONSGML v1.0//EN
CALSCALE:GREGORIAN
METHOD:PUBLISH
X-ORIGINAL-URL:https://dalmialionscollege.ac.in
X-WR-CALDESC:Events for Prahladrai Dalmia Lions College
REFRESH-INTERVAL;VALUE=DURATION:PT1H
X-Robots-Tag:noindex
X-PUBLISHED-TTL:PT1H
BEGIN:VTIMEZONE
TZID:UTC
BEGIN:STANDARD
TZOFFSETFROM:+0000
TZOFFSETTO:+0000
TZNAME:UTC
DTSTART:20210101T000000
END:STANDARD
END:VTIMEZONE
BEGIN:VEVENT
DTSTART;VALUE=DATE:20210130
DTEND;VALUE=DATE:20210131
DTSTAMP:20260421T021109
CREATED:20210127T101302Z
LAST-MODIFIED:20210127T132732Z
UID:8321-1611964800-1612051199@dalmialionscollege.ac.in
SUMMARY:VIRTUAL PRASHNOTRI 2021 (ORGANIZED BY BMS DEPARTMENT)
DESCRIPTION:VIRTUAL PRASHNOTRI 2021 (ORGANIZED BY BMS DEPARTMENT): Click here to view
URL:https://dalmialionscollege.ac.in/event/research-advisory-committee-meeting/
CATEGORIES:Events
END:VEVENT
BEGIN:VEVENT
DTSTART;VALUE=DATE:20210130
DTEND;VALUE=DATE:20210131
DTSTAMP:20260421T021109
CREATED:20210129T063945Z
LAST-MODIFIED:20210129T063945Z
UID:8336-1611964800-1612051199@dalmialionscollege.ac.in
SUMMARY:AN ONLINE WORKSHOP ON HOW TO CRACK BANKING ENTRANCE EXAMINATIONS!
DESCRIPTION:AN ONLINE WORKSHOP ON HOW TO CRACK BANKING ENTRANCE EXAMINATIONS: Click here to view
URL:https://dalmialionscollege.ac.in/event/an-online-workshop-on-how-to-crack-banking-entrance-examinations/
CATEGORIES:Events
END:VEVENT
END:VCALENDAR